View In:
ArcMap
ArcGIS Explorer
ArcGIS JavaScript
Google Earth
ArcGIS.com Map
View Footprint In:
Google Earth
Service Description: Service de carte issu d'une mosaique d'images des anciens lots numérisés.
Map Name: Layers
Legend
All Layers and Tables
Layers:
Tables:
Description:
Copyright Text:
Spatial Reference: PROJCS["North_American_1983_Transverse_Mercator",GEOGCS["GCS_North_American_1983",DATUM["D_North_American_1983",SPHEROID["GRS_1980",6378137.0,298.257222101]],PRIMEM["Greenwich",0.0],UNIT["Degree",0.0174532925199433]],PROJECTION["Transverse_Mercator"],PARAMETER["false_easting",304800.0],PARAMETER["false_northing",0.0],PARAMETER["central_meridian",-73.5],PARAMETER["scale_factor",0.9999],PARAMETER["latitude_of_origin",0.0],UNIT["Meter",1.0]]
Single Fused Map Cache: true
Tile Info:
- Height: 256
- Width: 256
- DPI: 96
- Levels of Detail: (# Levels: 10)
-
Level ID: 0
[Start Tile,
End Tile]
Resolution: 67.7334688002709
Scale: 256000
-
Level ID: 1
[Start Tile,
End Tile]
Resolution: 33.8667344001355
Scale: 128000
-
Level ID: 2
[Start Tile,
End Tile]
Resolution: 16.9333672000677
Scale: 64000
-
Level ID: 3
[Start Tile,
End Tile]
Resolution: 8.46668360003387
Scale: 32000
-
Level ID: 4
[Start Tile,
End Tile]
Resolution: 4.23334180001693
Scale: 16000
-
Level ID: 5
[Start Tile,
End Tile]
Resolution: 2.11667090000847
Scale: 8000
-
Level ID: 6
[Start Tile,
End Tile]
Resolution: 1.05833545000423
Scale: 4000
-
Level ID: 7
[Start Tile,
End Tile]
Resolution: 0.529167725002117
Scale: 2000
-
Level ID: 8
[Start Tile,
End Tile]
Resolution: 0.264583862501058
Scale: 1000
-
Level ID: 9
[Start Tile,
End Tile]
Resolution: 0.132291931250529
Scale: 500
- Format: JPEG
- Compression Quality: 75
-
Origin:
- Spatial Reference: PROJCS["North_American_1983_Transverse_Mercator",GEOGCS["GCS_North_American_1983",DATUM["D_North_American_1983",SPHEROID["GRS_1980",6378137.0,298.257222101]],PRIMEM["Greenwich",0.0],UNIT["Degree",0.0174532925199433]],PROJECTION["Transverse_Mercator"],PARAMETER["false_easting",304800.0],PARAMETER["false_northing",0.0],PARAMETER["central_meridian",-73.5],PARAMETER["scale_factor",0.9999],PARAMETER["latitude_of_origin",0.0],UNIT["Meter",1.0]]
Initial Extent:
XMin: 287381.837928679
YMin: 5052786.40957756
XMax: 287704.894824792
YMax: 5052953.09741094
Spatial Reference: PROJCS["North_American_1983_Transverse_Mercator",GEOGCS["GCS_North_American_1983",DATUM["D_North_American_1983",SPHEROID["GRS_1980",6378137.0,298.257222101]],PRIMEM["Greenwich",0.0],UNIT["Degree",0.0174532925199433]],PROJECTION["Transverse_Mercator"],PARAMETER["false_easting",304800.0],PARAMETER["false_northing",0.0],PARAMETER["central_meridian",-73.5],PARAMETER["scale_factor",0.9999],PARAMETER["latitude_of_origin",0.0],UNIT["Meter",1.0]]
Full Extent:
XMin: 273657.022293124
YMin: 5040171.64643969
XMax: 303907.065683359
YMax: 5063271.96264275
Spatial Reference: PROJCS["North_American_1983_Transverse_Mercator",GEOGCS["GCS_North_American_1983",DATUM["D_North_American_1983",SPHEROID["GRS_1980",6378137.0,298.257222101]],PRIMEM["Greenwich",0.0],UNIT["Degree",0.0174532925199433]],PROJECTION["Transverse_Mercator"],PARAMETER["false_easting",304800.0],PARAMETER["false_northing",0.0],PARAMETER["central_meridian",-73.5],PARAMETER["scale_factor",0.9999],PARAMETER["latitude_of_origin",0.0],UNIT["Meter",1.0]]
Units: esriMeters
Supported Image Format Types: PNG24,PNG,JPG,DIB,TIFF,EMF,PS,PDF,GIF,SVG,SVGZ,AI,BMP
Document Info:
- Title:
- Author:
- Comments:
- Subject:
- Category:
- Keywords:
- Credits:
Supported Interfaces:
REST
SOAP
Supported Operations:
Export Map
Identify
Find