View In:
ArcMap
ArcGIS Explorer
ArcGIS JavaScript
Google Earth
ArcGIS.com Map
View Footprint In:
Google Earth
Service Description: Mosaique de photo prise le 22 novembre 2003
Map Name: Layers
Legend
All Layers and Tables
Layers:
Tables:
Description:
Copyright Text:
Spatial Reference: 32188
Single Fused Map Cache: true
Tile Info:
- Height: 256
- Width: 256
- DPI: 96
- Levels of Detail: (# Levels: 10)
-
Level ID: 0
[Start Tile,
End Tile]
Resolution: 67.7334688002709
Scale: 256000
-
Level ID: 1
[Start Tile,
End Tile]
Resolution: 33.8667344001355
Scale: 128000
-
Level ID: 2
[Start Tile,
End Tile]
Resolution: 16.9333672000677
Scale: 64000
-
Level ID: 3
[Start Tile,
End Tile]
Resolution: 8.46668360003387
Scale: 32000
-
Level ID: 4
[Start Tile,
End Tile]
Resolution: 4.23334180001693
Scale: 16000
-
Level ID: 5
[Start Tile,
End Tile]
Resolution: 2.11667090000847
Scale: 8000
-
Level ID: 6
[Start Tile,
End Tile]
Resolution: 1.05833545000423
Scale: 4000
-
Level ID: 7
[Start Tile,
End Tile]
Resolution: 0.529167725002117
Scale: 2000
-
Level ID: 8
[Start Tile,
End Tile]
Resolution: 0.264583862501058
Scale: 1000
-
Level ID: 9
[Start Tile,
End Tile]
Resolution: 0.132291931250529
Scale: 500
- Format: JPEG
- Compression Quality: 75
-
Origin:
- Spatial Reference: 32188
Initial Extent:
XMin: 268534.791213609
YMin: 5037576.06300145
XMax: 306682.280842208
YMax: 5068196.51696986
Spatial Reference: 32188
Full Extent:
XMin: 268534.791213609
YMin: 5038580.98137493
XMax: 306682.280842208
YMax: 5067191.59859638
Spatial Reference: 32188
Units: esriMeters
Supported Image Format Types: PNG24,PNG,JPG,DIB,TIFF,EMF,PS,PDF,GIF,SVG,SVGZ,AI,BMP
Document Info:
- Title:
- Author:
- Comments:
- Subject:
- Category:
- Keywords:
- Credits:
Supported Interfaces:
REST
SOAP
Supported Operations:
Export Map
Identify
Find