View In:
ArcMap
ArcGIS Explorer
ArcGIS JavaScript
Google Earth
ArcGIS.com Map
View Footprint In:
Google Earth
Service Description: Fond de carte utilisé par l'équipe cadastre responsable de traiter les dossiers de lotissement au service de l'urbanisme.
Map Name: CARTE PRINCIPALE
Legend
All Layers and Tables
Layers:
Tables:
Description:
Copyright Text:
Spatial Reference: 32188
Single Fused Map Cache: true
Tile Info:
- Height: 256
- Width: 256
- DPI: 96
- Levels of Detail: (# Levels: 10)
-
Level ID: 0
[Start Tile,
End Tile]
Resolution: 67.7334688002709
Scale: 256000
-
Level ID: 1
[Start Tile,
End Tile]
Resolution: 33.8667344001355
Scale: 128000
-
Level ID: 2
[Start Tile,
End Tile]
Resolution: 16.9333672000677
Scale: 64000
-
Level ID: 3
[Start Tile,
End Tile]
Resolution: 8.46668360003387
Scale: 32000
-
Level ID: 4
[Start Tile,
End Tile]
Resolution: 4.23334180001693
Scale: 16000
-
Level ID: 5
[Start Tile,
End Tile]
Resolution: 2.11667090000847
Scale: 8000
-
Level ID: 6
[Start Tile,
End Tile]
Resolution: 1.05833545000423
Scale: 4000
-
Level ID: 7
[Start Tile,
End Tile]
Resolution: 0.529167725002117
Scale: 2000
-
Level ID: 8
[Start Tile,
End Tile]
Resolution: 0.264583862501058
Scale: 1000
-
Level ID: 9
[Start Tile,
End Tile]
Resolution: 0.132291931250529
Scale: 500
- Format: PNG32
- Compression Quality: 0
-
Origin:
- Spatial Reference: 32188
Initial Extent:
XMin: 284296.430713429
YMin: 5048596.04085457
XMax: 289945.296177826
YMax: 5050362.13813677
Spatial Reference: 32188
Full Extent:
XMin: 243984.318242909
YMin: 5008944.9520452
XMax: 334639.818242909
YMax: 5094848.4520452
Spatial Reference: 32188
Units: esriMeters
Supported Image Format Types: PNG32,PNG24,PNG,JPG,DIB,TIFF,EMF,PS,PDF,GIF,SVG,SVGZ,BMP
Document Info:
- Title: ArcReader - Urbanisme.mxd
- Author: b.edwards
- Comments: 2012-03-04
- Nouvelle photo été 2011
- RECHERCHE PAR RÈGLEMENT (TRA_FINANCEMENT_PG)
- Restructuration/ménage du groupe « Fond de plan »
- Déplacement des couches des programmes d’aide et des PPU dans « Public »
- Subject:
- Category:
- Keywords:
- AntialiasingMode: Best
- TextAntialiasingMode: Force
Supported Interfaces:
REST
SOAP
Supported Operations:
Export Map
Identify
Find